BEGIN:VCALENDAR
VERSION:2.0
PRODID:-//Tuscany Legend - ECPv6.8.2.1//NONSGML v1.0//EN
CALSCALE:GREGORIAN
METHOD:PUBLISH
X-ORIGINAL-URL:https://www.tuscanylegend.it
X-WR-CALDESC:Eventi per Tuscany Legend
REFRESH-INTERVAL;VALUE=DURATION:PT1H
X-Robots-Tag:noindex
X-PUBLISHED-TTL:PT1H
BEGIN:VTIMEZONE
TZID:Europe/Rome
BEGIN:DAYLIGHT
TZOFFSETFROM:+0100
TZOFFSETTO:+0200
TZNAME:CEST
DTSTART:20260329T010000
END:DAYLIGHT
BEGIN:STANDARD
TZOFFSETFROM:+0200
TZOFFSETTO:+0100
TZNAME:CET
DTSTART:20261025T010000
END:STANDARD
END:VTIMEZONE
BEGIN:VEVENT
DTSTART;VALUE=DATE:20260214
DTEND;VALUE=DATE:20260215
DTSTAMP:20260420T061248
CREATED:20260128T090941Z
LAST-MODIFIED:20260128T091236Z
UID:26384-1771027200-1771113599@www.tuscanylegend.it
SUMMARY:RICORDANDO MARCO PANTANI
DESCRIPTION:Il Trofeo Ricordando Marco Pantani è una classica del ciclismo amatoriale in Toscana: una gara che negli anni ha conquistato prestigio e ampia partecipazione perché unisce agonismo\, passione e memoria\, nel segno del “Pirata”. \nLa 21ª edizione si svolge sabato 14 febbraio 2026 a Lucca\, con ritrovo e partenza dal Foro Boario (Via per Camaiore) e un percorso in linea di 65 km lungo la Valle del Serchio\, fino all’arrivo a loc. Fiano – Comune diPescaglia(LU). \nLa manifestazione è una gara ciclistica aperta ai tesserati FCI e agli Enti di Promozione Sportiva convenzionati\, in regola con il tesseramento 2026. \n\nIl Trofeo Ricordando Marco Pantani si conferma così un appuntamento di riferimento a livello regionale\, capace di valorizzare il territorio e offrire una competizione vera\, selettiva e ricca di significato sportivo. \nSono previste due partenze e l’assegnazione della Maglia “Ricordando Marco Pantani” al 1° assoluto di ogni partenza e alla prima donna classificata.
URL:https://www.tuscanylegend.it/event/ricordando-marco-pantani/
LOCATION:Lucca\, Viale delle Mura Urbane\, 6\, Lucca\, LU\, 55100\, Italy
CATEGORIES:Gara Ciclistica
ATTACH;FMTTYPE=image/png:https://www.tuscanylegend.it/wp-content/uploads/2026/01/logo-pantani.png
ORGANIZER;CN="Tuscany Legend":MAILTO:tuscanylegend@gmail.com
END:VEVENT
BEGIN:VEVENT
DTSTART;VALUE=DATE:20260329
DTEND;VALUE=DATE:20260330
DTSTAMP:20260420T061248
CREATED:20241113T234028Z
LAST-MODIFIED:20260129T121159Z
UID:26135-1774742400-1774828799@www.tuscanylegend.it
SUMMARY:GIRO DELLA QUESTURA
DESCRIPTION:Il Giro della Questura è diventato un fenomeno noto anche online\, ma è da decenni una tradizione amata da ciclisti di ogni tipo. Dal suo avvio negli anni Settanta\, questo evento ha riunito professionisti\, dilettanti\, amatori e appassionati ogni domenica e mercoledì pomeriggio a Lucca. \nIl ritrovo domenicale avviene alle 9.00\, partendo da Borgo Giannotti\, vicino alla caserma della Polizia. Il percorso di circa 70 km si snoda attraverso Filettole\, Nodica\, Vecchiano\, prosegue sull’Aurelia fino a Camaiore e Montemagno\, e infine rientra dalla Freddana. Originariamente\, la partenza era davanti alla Questura di Lucca\, da cui il nome del giro.
URL:https://www.tuscanylegend.it/event/giro-della-questura/
LOCATION:Lucca\, Viale delle Mura Urbane\, 6\, Lucca\, LU\, 55100\, Italy
CATEGORIES:Gara Ciclistica
ATTACH;FMTTYPE=image/png:https://www.tuscanylegend.it/wp-content/uploads/2024/11/giro_della_questura_transparent.png
ORGANIZER;CN="Tuscany Legend":MAILTO:tuscanylegend@gmail.com
END:VEVENT
BEGIN:VEVENT
DTSTART;VALUE=DATE:20260419
DTEND;VALUE=DATE:20260420
DTSTAMP:20260420T061248
CREATED:20240905T092827Z
LAST-MODIFIED:20251021T103802Z
UID:25832-1776556800-1776643199@www.tuscanylegend.it
SUMMARY:GRANFONDO PUCCINI CITTÀ DI LUCCA
DESCRIPTION:Dopo il successo della prima edizione\, siamo entusiasti di annunciare la terza edizione della Granfondo Puccini Città di Lucca\, che si terrà domenica 19 Aprile 2026. Questo evento ciclistico\, dedicato al grande compositore Giacomo Puccini\, si conferma come un appuntamento imperdibile per tutti gli amanti del ciclismo\, offrendo l’opportunità di pedalare attraverso i meravigliosi paesaggi della Lucchesia.
URL:https://www.tuscanylegend.it/event/granfondo-puccini-citta-di-lucca/
LOCATION:Lucca\, Viale delle Mura Urbane\, 6\, Lucca\, LU\, 55100\, Italy
CATEGORIES:Gara Ciclistica
ATTACH;FMTTYPE=image/webp:https://www.tuscanylegend.it/wp-content/uploads/2024/09/PUCCINI.webp
ORGANIZER;CN="Tuscany Legend":MAILTO:tuscanylegend@gmail.com
END:VEVENT
BEGIN:VEVENT
DTSTART;VALUE=DATE:20260503
DTEND;VALUE=DATE:20260504
DTSTAMP:20260420T061248
CREATED:20240905T094337Z
LAST-MODIFIED:20251021T103610Z
UID:25846-1777766400-1777852799@www.tuscanylegend.it
SUMMARY:GRANFONDO DELLA VERSILIA
DESCRIPTION:Il 3 maggio 2026 si svolgerà la 28ª edizione della Granfondo della Versilia\, che porterà con sé una grande novità: torneremo alle origini con due gare in una! Avremo una Mediofondo di 72 km con un dislivello complessivo di 1.291 metri\, completamente competitiva (Gara)\, e una Granfondo di 103\,1 km con un dislivello complessivo di 1.824 metri\, caratterizzata da quattro cronoscalate.
URL:https://www.tuscanylegend.it/event/granfondo-della-versilia/
LOCATION:Viareggio\, Cittadella Carnevale\, Via Santa Maria Goretti\, 5\, Viareggio\, LU\, 55049\, Italy
CATEGORIES:Gara Ciclistica
ATTACH;FMTTYPE=image/png:https://www.tuscanylegend.it/wp-content/uploads/2024/09/logo-versilia.png
ORGANIZER;CN="Tuscany Legend":MAILTO:tuscanylegend@gmail.com
END:VEVENT
BEGIN:VEVENT
DTSTART;VALUE=DATE:20260607
DTEND;VALUE=DATE:20260608
DTSTAMP:20260420T061248
CREATED:20240905T093503Z
LAST-MODIFIED:20251021T103443Z
UID:25839-1780790400-1780876799@www.tuscanylegend.it
SUMMARY:GRANFONDO DEL VENTO
DESCRIPTION:La Granfondo del Vento è una Gara Ciclistica competitiva con tratti di percorso “neutralizzati” cosi chiamata in omaggio alle celeberrime Grotte del Vento. Sono previsti 3 percorsi: Mediofondo\, Granfondo ed Extreme. La manifestazione coinvolge i territori comunali di : Bagni di Lucca\, Borgo a Mozzano\, Fabbriche di Vergemoli\, Gallicano\, Molazzana\, Barga\, Coreglia Antelminelli\, Castelnuovo di Garfagnana\, Pieve Fosciana\, Castiglione di Garfagnana\, Frassinoro\, Pievepelago\, Fiumalbo\, Abetone Cutigliano\, San Marcello Pistoiese\, Piteglio.
URL:https://www.tuscanylegend.it/event/granfondo-del-vento/
LOCATION:Bagni di Lucca\, Viale Umberto I\, 103\, Bagni di Lucca\, LU\, 55022\, Italy
CATEGORIES:Gara Ciclistica
ATTACH;FMTTYPE=image/png:https://www.tuscanylegend.it/wp-content/uploads/2024/09/vento.png
ORGANIZER;CN="Tuscany Legend":MAILTO:tuscanylegend@gmail.com
END:VEVENT
BEGIN:VEVENT
DTSTART;VALUE=DATE:20260628
DTEND;VALUE=DATE:20260629
DTSTAMP:20260420T061248
CREATED:20240905T095124Z
LAST-MODIFIED:20260128T090806Z
UID:25853-1782604800-1782691199@www.tuscanylegend.it
SUMMARY:GRANFONDO DEI LAGHI DELLA GARFAGNANA
DESCRIPTION:L’evento deve il suo nome ai laghi della località Garfagnana e sarà proposto con il format di Gara Ciclistica competitiva con tratti di percorso “neutralizzati”. Saranno previsti 2 percorsi e 3 cronometrate. Le prime 2 cronometrate saranno a comune tra il percorso Lungo ed il percorso Medio mentre la 3 cronometrata sarà affrontata solo dai partecipanti sul percorso Lungo.
URL:https://www.tuscanylegend.it/event/granfondo-dei-laghi-della-garfagnana/
LOCATION:Castelnuovo di Garfagnana\, LU\, 55032\, Italy
CATEGORIES:Gara Ciclistica
ATTACH;FMTTYPE=image/png:https://www.tuscanylegend.it/wp-content/uploads/2024/09/logo-tondo-gf-laghi.png
ORGANIZER;CN="Tuscany Legend":MAILTO:tuscanylegend@gmail.com
END:VEVENT
BEGIN:VEVENT
DTSTART;VALUE=DATE:20260906
DTEND;VALUE=DATE:20260907
DTSTAMP:20260420T061248
CREATED:20260128T091257Z
LAST-MODIFIED:20260128T091832Z
UID:26388-1788652800-1788739199@www.tuscanylegend.it
SUMMARY:Randonnée di Pinocchio
DESCRIPTION:Attraverseremo le colline DOC delle Colline Lucchesi\, pedalando tra Montecarlo e Lucca\, immersi in un paesaggio senza tempo fatto di vigne ordinate\, oliveti secolari e strade bianche che raccontano la storia rurale di questa terra. \nIl percorso ci condurrà attraverso luoghi incantati\, dove la natura e la leggenda si intrecciano\, come la suggestiva Quercia delle Streghe\, simbolo di mistero e tradizione popolare. Ogni tratto sarà un invito a rallentare\, osservare\, respirare. \nScenderemo poi verso il fondovalle per costeggiare il fiume Serchio\, seguendo il suo corso fino a raggiungere uno dei simboli più iconici della Toscana: le mitiche Mura di Lucca\, con la loro imponente cinta muraria\, unico esempio al mondo di fortificazione rinascimentale completamente percorribile in bicicletta. \nIl rientro verso Montecarlo sarà accompagnato dal fascino dell’Acquedotto del Nottolini\, un capolavoro di ingegneria ottocentesca che renderà gli ultimi chilometri ancora più suggestivi. \nAd attendervi all’arrivo\, nel cuore della Festa del Vino di Montecarlo\, un meritato e conviviale pasta party\, per chiudere la giornata celebrando il territorio\, la fatica e il piacere di pedalare insieme.
URL:https://www.tuscanylegend.it/event/randonnee-di-pinocchio/
LOCATION:Montecarlo (LU)\, Italy
CATEGORIES:Gara Ciclistica
ATTACH;FMTTYPE=image/webp:https://www.tuscanylegend.it/wp-content/uploads/2026/01/banner-1.webp
ORGANIZER;CN="Tuscany Legend":MAILTO:tuscanylegend@gmail.com
END:VEVENT
END:VCALENDAR